BEGIN:VCALENDAR
VERSION:2.0
PRODID:-//UCSA - ECPv5.14.1//NONSGML v1.0//EN
CALSCALE:GREGORIAN
METHOD:PUBLISH
X-WR-CALNAME:UCSA
X-ORIGINAL-URL:http://old.ucsa.org.nz
X-WR-CALDESC:Events for UCSA
REFRESH-INTERVAL;VALUE=DURATION:PT1H
X-Robots-Tag:noindex
X-PUBLISHED-TTL:PT1H
BEGIN:VTIMEZONE
TZID:Pacific/Auckland
BEGIN:STANDARD
TZOFFSETFROM:+1300
TZOFFSETTO:+1200
TZNAME:NZST
DTSTART:20190406T140000
END:STANDARD
BEGIN:DAYLIGHT
TZOFFSETFROM:+1200
TZOFFSETTO:+1300
TZNAME:NZDT
DTSTART:20190928T140000
END:DAYLIGHT
END:VTIMEZONE
BEGIN:VEVENT
DTSTART;TZID=Pacific/Auckland:20190510T080000
DTEND;TZID=Pacific/Auckland:20190605T235900
DTSTAMP:20260420T220627
CREATED:20190520T020358Z
LAST-MODIFIED:20190520T020358Z
UID:5083-1557475200-1559779140@old.ucsa.org.nz
SUMMARY:Entre 85K Challenge
DESCRIPTION:The $85K Start-Up Challenge is entré’s premier competition in which $85K worth of prizes are up for grabs. Entrants go through the process of developing a business idea\, whether it be a product or service\, for-profit or a charity\, and receive business world experience as well as invaluable guidance and mentoring from industry professionals. \nThe $85k start-up competition is for everyone and anyone. No matter what you study or how much experience you have in entrepreneurship\, this competition will help you develop your personal and professional skills in more ways than you can imagine! \nWant to know more about the competition or enter? Head along to www.entre.co.nz/85kchallenge or drop into the UC Centre for Entrepreneurship located on the 6th floor of the Rehua building. \nCheck out our event on Facebook: https://www.facebook.com/entre.at.uc/ \n  \n\nhttps://old.ucsa.org.nz/wp-content/uploads/Upscaled.mp4
URL:http://old.ucsa.org.nz/upcomingevents/entre-85k-challenge/
CATEGORIES:Club Events
ATTACH;FMTTYPE=image/png:http://old.ucsa.org.nz/wp-content/uploads/Website-Content/Events/Clubs/Club-Run-Events/Entre-85k.png
ORGANIZER;CN="Exec%20Weekly%20Stand-Up%3A%20Mental%20Health%2C%20Free%20Food%2C%20Flu%20and%20More":MAILTO:events@ucsa.org.nz
END:VEVENT
BEGIN:VEVENT
DTSTART;TZID=Pacific/Auckland:20190525T080000
DTEND;TZID=Pacific/Auckland:20190525T210000
DTSTAMP:20260420T220627
CREATED:20190428T213934Z
LAST-MODIFIED:20190428T213934Z
UID:4891-1558771200-1558818000@old.ucsa.org.nz
SUMMARY:PGSA: Writing Retreat
DESCRIPTION:A weekend getaway for UC postgraduate thesis students to get together as a group and get some of that pesky thesis written! \nWe will head to the secluded Cass Station to get some scholarly inspiration from the pristine hills and nature all around\, away from the reach of the digitally-connected world (i.e.\, no cell phone connection and stone-age Wi-Fi). We will aim to meet some writing goals over the two days\, while also taking breaks to socialise\, talk about our precious research\, explore the outdoors (or curl up inside the blanket\, if you prefer)\, prepare meals together\, and of course\, lots and lots of coffee! \nSome other details below: \nTicket cost: $25 (covers all meals and beverages; free accommodation).\nTransport: Carpooling to be arranged. Fuel cost about $10 per head.\nTickets available: 35\nFood: We will carry our groceries and cook at the venue.\nWhat to Bring: Laptop\, any writing material required; sleeping bag or blankets/duvet\, bed-sheets\, and pillow cases (mattress and pillows provided).\nFacilities available at venue: Workstations\, beds\, kitchen\, shower and toilet; heating and hot water.
URL:http://old.ucsa.org.nz/upcomingevents/pgsa-writing-retreat/
LOCATION:UC Cass Field Station\, Cass Mountain Research Area\, Upper Waimakairir River\, North Canterbury\, New Zealand
CATEGORIES:Club Events
ATTACH;FMTTYPE=image/png:http://old.ucsa.org.nz/wp-content/uploads/Website-Content/Events/Clubs/Club-Run-Events/writingretreat1920x1080.png
ORGANIZER;CN="Exec%20Weekly%20Stand-Up%3A%20Mental%20Health%2C%20Free%20Food%2C%20Flu%20and%20More":MAILTO:events@ucsa.org.nz
END:VEVENT
BEGIN:VEVENT
DTSTART;TZID=Pacific/Auckland:20190525T110000
DTEND;TZID=Pacific/Auckland:20190525T220000
DTSTAMP:20260420T220627
CREATED:20190429T013857Z
LAST-MODIFIED:20190429T013857Z
UID:4808-1558782000-1558821600@old.ucsa.org.nz
SUMMARY:Tunesoc: Acoustic Comp
DESCRIPTION:It’s that time of year again people! Where we get to see the best acoustic talent that UC has to offer. The Acoustic Competition is always a great chance to see new UC artists come out of the woodwork and to appreciate old favorites! \nSo get involved! You’ve still got time to get your friends together and write some music 🙂 entry is easy\, all you have to do is fill out the form below. Entries close at 5pm on Friday 17th May! All of the rules for the evening are on the form too\, so check it out! Prizes for Top 3 acts \nSIGN UP: https://docs.google.com/forms/d/e/1FAIpQLScfkM7jgRd7mse6NOfdWe5V5I49JU3cTxneZ1aFPZI2d4toSw/viewform?usp=sf_link \nIf you’re not a musician and just a music lover that’s cool too\, come along to the Foundry enjoy some fresh tunes and crack into that sweet sweet Foundry Draught. \nHeats will be throughout the day and then finals in the evening!
URL:http://old.ucsa.org.nz/upcomingevents/tunesoc-acoustic-comp/
LOCATION:The Foundry\, 90 Ilam Road\, Christchurch\, Canterbury\, 8041\, New Zealand
CATEGORIES:Club Events
ATTACH;FMTTYPE=image/jpeg:http://old.ucsa.org.nz/wp-content/uploads/Website-Content/Events/Clubs/Club-Run-Events/58442613_2433610783329293_3274112436562558976_o.jpg
ORGANIZER;CN="Exec%20Weekly%20Stand-Up%3A%20Mental%20Health%2C%20Free%20Food%2C%20Flu%20and%20More":MAILTO:events@ucsa.org.nz
END:VEVENT
BEGIN:VEVENT
DTSTART;TZID=Pacific/Auckland:20190525T190000
DTEND;TZID=Pacific/Auckland:20190525T233000
DTSTAMP:20260420T220627
CREATED:20190513T003503Z
LAST-MODIFIED:20190513T013220Z
UID:5077-1558810800-1558827000@old.ucsa.org.nz
SUMMARY:Beer\, Wind and Spirits Stock Exchange
DESCRIPTION:The Investment Society is bringing the most exciting new event to campus in 2019 – the Beer\, Wine and Spirits Stock Exchange! This event promises to be an unforgettable night of fast and furious fun as the prices of beer\, wine and spirits fluctuate throughout the night simulating a real life stock exchange.  \nIncluded in the ticket price is 100 “Wolf Bux” to be able to sink your teeth into setting up a prime beverage stock portfolio\, delicious food\, and a great night out at the most innovative event at UC in 2019. Word on the street is that drink stocks have been hovering around the 20 wolf bux mark so for 100 wolf bux with each ticket that’s 5 drink stocks – if you play your cards right 😉 \nThere will be highs. There will be lows. But rest assured – everyone will end up beating the market this time round!  \n“The BWSXChange was where my love of investing – and the rark – began” – Warren Buffett  \n“I secured a job on Wall Street at my first BWSXChange” – Jordan Belfort
URL:http://old.ucsa.org.nz/upcomingevents/beer-wind-and-spirits-stock-exchange/
LOCATION:Harvard Community Lounge\, 31 Corsair Drive\, Wigram\, Christchurch\, 8042\, New Zealand
CATEGORIES:Club Events
ATTACH;FMTTYPE=image/png:http://old.ucsa.org.nz/wp-content/uploads/Website-Content/Events/Clubs/Club-Run-Events/murray__co._and_the_investment_society_present.png
ORGANIZER;CN="Exec%20Weekly%20Stand-Up%3A%20Mental%20Health%2C%20Free%20Food%2C%20Flu%20and%20More":MAILTO:events@ucsa.org.nz
END:VEVENT
END:VCALENDAR