BEGIN:VCALENDAR
VERSION:2.0
PRODID:-//UCSA - ECPv5.14.1//NONSGML v1.0//EN
CALSCALE:GREGORIAN
METHOD:PUBLISH
X-WR-CALNAME:UCSA
X-ORIGINAL-URL:http://old.ucsa.org.nz
X-WR-CALDESC:Events for UCSA
REFRESH-INTERVAL;VALUE=DURATION:PT1H
X-Robots-Tag:noindex
X-PUBLISHED-TTL:PT1H
BEGIN:VTIMEZONE
TZID:Pacific/Auckland
BEGIN:STANDARD
TZOFFSETFROM:+1300
TZOFFSETTO:+1200
TZNAME:NZST
DTSTART:20200404T140000
END:STANDARD
BEGIN:DAYLIGHT
TZOFFSETFROM:+1200
TZOFFSETTO:+1300
TZNAME:NZDT
DTSTART:20200926T140000
END:DAYLIGHT
END:VTIMEZONE
BEGIN:VEVENT
DTSTART;TZID=Pacific/Auckland:20200331T190000
DTEND;TZID=Pacific/Auckland:20200331T203000
DTSTAMP:20260425T001732
CREATED:20200330T235330Z
LAST-MODIFIED:20200330T235330Z
UID:10769-1585681200-1585686600@old.ucsa.org.nz
SUMMARY:Virtual Foundry Quiz
DESCRIPTION:🎉 Quiz Night is BACK! 🎉 Join us on the The Foundry Bar‘s Facebook page tonight for our virtual quiz\, beaming into your living rooms from 7pm. Quiz Master for the night is CANTA’s Liam Donnelly. \nWe’ll have the registration/quiz sheet link in our livestream\, so get amongst. 🙌 \n 
URL:http://old.ucsa.org.nz/upcomingevents/virtual-foundry-quiz/
CATEGORIES:UCSA Events
ATTACH;FMTTYPE=image/jpeg:http://old.ucsa.org.nz/wp-content/uploads/Website-Content/Events/Other-Events/Quiz-Live-Foundry.jpg
ORGANIZER;CN="Exec%20Weekly%20Stand-Up%3A%20Mental%20Health%2C%20Free%20Food%2C%20Flu%20and%20More":MAILTO:events@ucsa.org.nz
END:VEVENT
END:VCALENDAR