BEGIN:VCALENDAR
VERSION:2.0
PRODID:-//UCSA - ECPv5.14.1//NONSGML v1.0//EN
CALSCALE:GREGORIAN
METHOD:PUBLISH
X-WR-CALNAME:UCSA
X-ORIGINAL-URL:http://old.ucsa.org.nz
X-WR-CALDESC:Events for UCSA
REFRESH-INTERVAL;VALUE=DURATION:PT1H
X-Robots-Tag:noindex
X-PUBLISHED-TTL:PT1H
BEGIN:VTIMEZONE
TZID:Pacific/Auckland
BEGIN:STANDARD
TZOFFSETFROM:+1300
TZOFFSETTO:+1200
TZNAME:NZST
DTSTART:20200404T140000
END:STANDARD
BEGIN:DAYLIGHT
TZOFFSETFROM:+1200
TZOFFSETTO:+1300
TZNAME:NZDT
DTSTART:20200926T140000
END:DAYLIGHT
END:VTIMEZONE
BEGIN:VEVENT
DTSTART;TZID=Pacific/Auckland:20200402T000000
DTEND;TZID=Pacific/Auckland:20200406T090000
DTSTAMP:20260425T001633
CREATED:20200401T224439Z
LAST-MODIFIED:20200402T045053Z
UID:10805-1585785600-1586163600@old.ucsa.org.nz
SUMMARY:Pillow Fort Comp
DESCRIPTION:Is the flat feeling a little drab? Why not spice it up by transforming your lounge into a pillow fort?! \nWe’ve got 1 x $100 Countdown voucher for the best fort\, and 2 x $50 Countdown vouchers for the runner ups. \nThings to consider… Will it be a lush fortress with snacks and appliances on hand\, a labyrinth tunnel system leading from room to room\, or a fort focused purely on comfort with a mass of blankets and cushions? \nTo enter\, visit our Facebook post here and upload a photo (or video) of your fort in the comments\, or DM your picture/video to us on Instagram: @ucsa_nz \nEntries need to be in to us before 9am Monday 6 April 2020. \n 
URL:http://old.ucsa.org.nz/upcomingevents/pillow-fort-comp/
CATEGORIES:UCSA Events
ATTACH;FMTTYPE=image/jpeg:http://old.ucsa.org.nz/wp-content/uploads/Website-Content/Events/Other-Events/Pillow-Fort-FB-comp.jpg
ORGANIZER;CN="Exec%20Weekly%20Stand-Up%3A%20Mental%20Health%2C%20Free%20Food%2C%20Flu%20and%20More":MAILTO:events@ucsa.org.nz
END:VEVENT
END:VCALENDAR