BEGIN:VCALENDAR
VERSION:2.0
PRODID:-//UCSA - ECPv5.14.1//NONSGML v1.0//EN
CALSCALE:GREGORIAN
METHOD:PUBLISH
X-WR-CALNAME:UCSA
X-ORIGINAL-URL:http://old.ucsa.org.nz
X-WR-CALDESC:Events for UCSA
REFRESH-INTERVAL;VALUE=DURATION:PT1H
X-Robots-Tag:noindex
X-PUBLISHED-TTL:PT1H
BEGIN:VTIMEZONE
TZID:Pacific/Auckland
BEGIN:STANDARD
TZOFFSETFROM:+1300
TZOFFSETTO:+1200
TZNAME:NZST
DTSTART:20200404T140000
END:STANDARD
BEGIN:DAYLIGHT
TZOFFSETFROM:+1200
TZOFFSETTO:+1300
TZNAME:NZDT
DTSTART:20200926T140000
END:DAYLIGHT
END:VTIMEZONE
BEGIN:VEVENT
DTSTART;TZID=Pacific/Auckland:20200402T000000
DTEND;TZID=Pacific/Auckland:20200406T090000
DTSTAMP:20260425T014512
CREATED:20200401T224439Z
LAST-MODIFIED:20200402T045053Z
UID:10805-1585785600-1586163600@old.ucsa.org.nz
SUMMARY:Pillow Fort Comp
DESCRIPTION:Is the flat feeling a little drab? Why not spice it up by transforming your lounge into a pillow fort?! \nWe’ve got 1 x $100 Countdown voucher for the best fort\, and 2 x $50 Countdown vouchers for the runner ups. \nThings to consider… Will it be a lush fortress with snacks and appliances on hand\, a labyrinth tunnel system leading from room to room\, or a fort focused purely on comfort with a mass of blankets and cushions? \nTo enter\, visit our Facebook post here and upload a photo (or video) of your fort in the comments\, or DM your picture/video to us on Instagram: @ucsa_nz \nEntries need to be in to us before 9am Monday 6 April 2020. \n 
URL:http://old.ucsa.org.nz/upcomingevents/pillow-fort-comp/
CATEGORIES:UCSA Events
ATTACH;FMTTYPE=image/jpeg:http://old.ucsa.org.nz/wp-content/uploads/Website-Content/Events/Other-Events/Pillow-Fort-FB-comp.jpg
ORGANIZER;CN="Exec%20Weekly%20Stand-Up%3A%20Mental%20Health%2C%20Free%20Food%2C%20Flu%20and%20More":MAILTO:events@ucsa.org.nz
END:VEVENT
BEGIN:VEVENT
DTSTART;TZID=Pacific/Auckland:20200406T090000
DTEND;TZID=Pacific/Auckland:20200518T170000
DTSTAMP:20260425T014512
CREATED:20200401T220953Z
LAST-MODIFIED:20200401T220953Z
UID:10794-1586163600-1589821200@old.ucsa.org.nz
SUMMARY:The Investment Society - Stock Portfolio Competition
DESCRIPTION:The Investment Society along with Hatch Invest are here to help you pass some time while in lockdown! Our Stock Portfolio Competition is back for 2020 and has been brought forward to give you another thing to use as proscratination for all those uni assignments. \nThis competition gives you $100\,000 USD of cash to invest in equities and commodities over 6 weeks (until 5pm on the 18th May) to try maximise your portfolio value. This is sure to be an interesting time in the market so get amongst it without losing your study-link money. If you’re not sold yet\, maybe our $1000 of cash prizes will interest you! First place will win $600\, second place $200 and third place $100 with 2x$50 spot prizes up for grabs as well. \nTrading starts on Monday 6th April and ends on Monday 18th May. Register before the game starts to get used to the platform and have a few practice trades. \nIf you don’t know where to start\, there are plenty of introductory videos on the platform to help you out with navigating the website or trading in general. \nInstructions to join our challenge:\n1) Follow this link to the platform:\nhttps://www.virtual-stock-exchange.com/account/dashboard \n2) Click on register in the top right hand corner. Put in your details and make USD your practice currency. Put your reason for joining as ‘Investment Club’ and then click register at the bottom. \n3) Once you’re signed up\, click on Challenges on the top menu bar and then click Join a Challenge. \n4) Search for our game “The Investment Society Stock Portfolio Competition’ and click Join. Enter the game password ‘theinvestmentsociety’. \nNow you’re in and you can get started. We recommend watching a quick tutorial on how to use the platform found on the platform’s website.
URL:http://old.ucsa.org.nz/upcomingevents/the-investment-society-stock-portfolio-competition/
LOCATION:Virtual
CATEGORIES:Club Events
ATTACH;FMTTYPE=image/png:http://old.ucsa.org.nz/wp-content/uploads/Website-Content/Events/Clubs/Club-Run-Events/Investment-Society.png
ORGANIZER;CN="Exec%20Weekly%20Stand-Up%3A%20Mental%20Health%2C%20Free%20Food%2C%20Flu%20and%20More":MAILTO:events@ucsa.org.nz
END:VEVENT
BEGIN:VEVENT
DTSTART;TZID=Pacific/Auckland:20200406T190000
DTEND;TZID=Pacific/Auckland:20200406T203000
DTSTAMP:20260425T014512
CREATED:20200401T231349Z
LAST-MODIFIED:20200401T231349Z
UID:10801-1586199600-1586205000@old.ucsa.org.nz
SUMMARY:Canterbury University Toastmasters Meeting
DESCRIPTION:Monday 6th April 2020 – Starting at 7:00 pm Pacific/Auckland\nThis is an online meeting\, click here to get the date and time at your location. \nVenue: Meet online Click here to join meeting \nMeeting Theme: Zooming Through Lockdown
URL:http://old.ucsa.org.nz/upcomingevents/canterbury-university-toastmasters-meeting/2020-04-06/
CATEGORIES:Club Events
ATTACH;FMTTYPE=image/jpeg:http://old.ucsa.org.nz/wp-content/uploads/Website-Content/Events/Clubs/Club-Run-Events/You-can-speak.jpg
ORGANIZER;CN="Exec%20Weekly%20Stand-Up%3A%20Mental%20Health%2C%20Free%20Food%2C%20Flu%20and%20More":MAILTO:events@ucsa.org.nz
END:VEVENT
BEGIN:VEVENT
DTSTART;TZID=Pacific/Auckland:20200406T190000
DTEND;TZID=Pacific/Auckland:20200406T210000
DTSTAMP:20260425T014512
CREATED:20200401T221203Z
LAST-MODIFIED:20200405T231536Z
UID:10797-1586199600-1586206800@old.ucsa.org.nz
SUMMARY:SpeechSoc Online Quiz
DESCRIPTION:Grab your flatmates and/or family for a night of fun! We can’t attend quiz nights in person\, but join us for an online quiz from the comfort of your couch! More details to come – like the Facebook event page to keep up to date! \n  \nhttps://www.facebook.com/events/2618672931742704/
URL:http://old.ucsa.org.nz/upcomingevents/speechsoc-online-quiz/
LOCATION:Online Via Zoom
CATEGORIES:Club Events
ATTACH;FMTTYPE=image/jpeg:http://old.ucsa.org.nz/wp-content/uploads/Website-Content/Events/Clubs/Club-Run-Events/SpeechSoc-e1586128521713.jpg
ORGANIZER;CN="Exec%20Weekly%20Stand-Up%3A%20Mental%20Health%2C%20Free%20Food%2C%20Flu%20and%20More":MAILTO:events@ucsa.org.nz
END:VEVENT
END:VCALENDAR