BEGIN:VCALENDAR
VERSION:2.0
PRODID:-//UCSA - ECPv5.14.1//NONSGML v1.0//EN
CALSCALE:GREGORIAN
METHOD:PUBLISH
X-WR-CALNAME:UCSA
X-ORIGINAL-URL:http://old.ucsa.org.nz
X-WR-CALDESC:Events for UCSA
REFRESH-INTERVAL;VALUE=DURATION:PT1H
X-Robots-Tag:noindex
X-PUBLISHED-TTL:PT1H
BEGIN:VTIMEZONE
TZID:Pacific/Auckland
BEGIN:STANDARD
TZOFFSETFROM:+1300
TZOFFSETTO:+1200
TZNAME:NZST
DTSTART:20200404T140000
END:STANDARD
BEGIN:DAYLIGHT
TZOFFSETFROM:+1200
TZOFFSETTO:+1300
TZNAME:NZDT
DTSTART:20200926T140000
END:DAYLIGHT
END:VTIMEZONE
BEGIN:VEVENT
DTSTART;TZID=Pacific/Auckland:20200323T190000
DTEND;TZID=Pacific/Auckland:20200323T223000
DTSTAMP:20260425T031032
CREATED:20200316T023417Z
LAST-MODIFIED:20200316T023417Z
UID:10559-1584990000-1585002600@old.ucsa.org.nz
SUMMARY:UC POLS Quiz Night
DESCRIPTION:This event is free to all of our members for 2020\, and $5 dollars for non-members. However\, non-members quiz ticket also includes a UCPOLS membership for 2020. What. A. Bargain!!! Tickets drop at 7 p.m\, Saturday the 7th of March. \nDoors open at 7\, with the quiz starting at 7:30. Teams will be limited to a maximum of 5 people\, and you can register beforehand by messaging your team to UCPOLS\, or you can do so on the night. Single or small group entries are welcome too\, we’ll make sure you are part of a team on the night! \nThere will be prizes\, special guests to be announced\, and drinks flowing all night downstairs at the Foundry!!
URL:http://old.ucsa.org.nz/upcomingevents/uc-pols-quiz-night/
LOCATION:Bentleys – Haere-roa\, 90 Ilam Road\, Christchurch\, 8041\, New Zealand
CATEGORIES:Club Events
ATTACH;FMTTYPE=image/png:http://old.ucsa.org.nz/wp-content/uploads/Website-Content/Events/Clubs/Club-Run-Events/89171581_217982079404574_6614271797871247360_n.png
ORGANIZER;CN="Exec%20Weekly%20Stand-Up%3A%20Mental%20Health%2C%20Free%20Food%2C%20Flu%20and%20More":MAILTO:events@ucsa.org.nz
END:VEVENT
BEGIN:VEVENT
DTSTART;TZID=Pacific/Auckland:20200327T173000
DTEND;TZID=Pacific/Auckland:20200327T210000
DTSTAMP:20260425T031032
CREATED:20200311T201855Z
LAST-MODIFIED:20200311T201855Z
UID:10448-1585330200-1585342800@old.ucsa.org.nz
SUMMARY:African Students Association - The Big Braii
DESCRIPTION:UCASA’s very first event – The Big BRAAI. Come and enjoy some of Africa’s finest delicacies that will fill your belly and warm your heart. Not to mention dancing and jiving to some banger\, unbeatable Afro Beats that you will never forget. We will give a bit of a zing to this event with some fun outdoor games to keep you exhilarated. 
URL:http://old.ucsa.org.nz/upcomingevents/african-students-association-the-big-braii/
LOCATION:Haere-roa Ampitheatre\, 90 Ilam Road\, Ilam\, Christchurch\, 8014\, New Zealand
CATEGORIES:Club Events
ATTACH;FMTTYPE=image/png:http://old.ucsa.org.nz/wp-content/uploads/Website-Content/Events/Clubs/Club-Run-Events/African-Soc-16-23-MAR.png
ORGANIZER;CN="Exec%20Weekly%20Stand-Up%3A%20Mental%20Health%2C%20Free%20Food%2C%20Flu%20and%20More":MAILTO:events@ucsa.org.nz
END:VEVENT
BEGIN:VEVENT
DTSTART;TZID=Pacific/Auckland:20200328T190000
DTEND;TZID=Pacific/Auckland:20200329T190000
DTSTAMP:20260425T031032
CREATED:20200310T203452Z
LAST-MODIFIED:20200310T203550Z
UID:10426-1585422000-1585508400@old.ucsa.org.nz
SUMMARY:Tunesoc - Cosy Night Out
DESCRIPTION:Cosy Night is back! Joining us we have Dolphin Friendly\, Hot Donnas\, The Raddlers & Castaway! Explained in the title\, this event will be a cosy one and will certainly get silly. Cannot wait to see you there!
URL:http://old.ucsa.org.nz/upcomingevents/tunesoc-cosy-night-out-2/
LOCATION:Ngaio Marsh Theatre – Haere-roa\, Haere-roa\, 90 Ilam Road\, Christchurch\, 8041\, New Zealand
CATEGORIES:Club Events
ATTACH;FMTTYPE=image/jpeg:http://old.ucsa.org.nz/wp-content/uploads/Website-Content/Events/Clubs/Club-Run-Events/Tunesoc-23-30-MAR.jpg
ORGANIZER;CN="Exec%20Weekly%20Stand-Up%3A%20Mental%20Health%2C%20Free%20Food%2C%20Flu%20and%20More":MAILTO:events@ucsa.org.nz
END:VEVENT
END:VCALENDAR