BEGIN:VCALENDAR
VERSION:2.0
PRODID:-//UCSA - ECPv5.14.1//NONSGML v1.0//EN
CALSCALE:GREGORIAN
METHOD:PUBLISH
X-WR-CALNAME:UCSA
X-ORIGINAL-URL:http://old.ucsa.org.nz
X-WR-CALDESC:Events for UCSA
REFRESH-INTERVAL;VALUE=DURATION:PT1H
X-Robots-Tag:noindex
X-PUBLISHED-TTL:PT1H
BEGIN:VTIMEZONE
TZID:Pacific/Auckland
BEGIN:STANDARD
TZOFFSETFROM:+1300
TZOFFSETTO:+1200
TZNAME:NZST
DTSTART:20200404T140000
END:STANDARD
BEGIN:DAYLIGHT
TZOFFSETFROM:+1200
TZOFFSETTO:+1300
TZNAME:NZDT
DTSTART:20200926T140000
END:DAYLIGHT
END:VTIMEZONE
BEGIN:VEVENT
DTSTART;TZID=Pacific/Auckland:20200402T000000
DTEND;TZID=Pacific/Auckland:20200406T090000
DTSTAMP:20260425T045826
CREATED:20200401T224439Z
LAST-MODIFIED:20200402T045053Z
UID:10805-1585785600-1586163600@old.ucsa.org.nz
SUMMARY:Pillow Fort Comp
DESCRIPTION:Is the flat feeling a little drab? Why not spice it up by transforming your lounge into a pillow fort?! \nWe’ve got 1 x $100 Countdown voucher for the best fort\, and 2 x $50 Countdown vouchers for the runner ups. \nThings to consider… Will it be a lush fortress with snacks and appliances on hand\, a labyrinth tunnel system leading from room to room\, or a fort focused purely on comfort with a mass of blankets and cushions? \nTo enter\, visit our Facebook post here and upload a photo (or video) of your fort in the comments\, or DM your picture/video to us on Instagram: @ucsa_nz \nEntries need to be in to us before 9am Monday 6 April 2020. \n 
URL:http://old.ucsa.org.nz/upcomingevents/pillow-fort-comp/
CATEGORIES:UCSA Events
ATTACH;FMTTYPE=image/jpeg:http://old.ucsa.org.nz/wp-content/uploads/Website-Content/Events/Other-Events/Pillow-Fort-FB-comp.jpg
ORGANIZER;CN="Exec%20Weekly%20Stand-Up%3A%20Mental%20Health%2C%20Free%20Food%2C%20Flu%20and%20More":MAILTO:events@ucsa.org.nz
END:VEVENT
BEGIN:VEVENT
DTSTART;TZID=Pacific/Auckland:20200406T090000
DTEND;TZID=Pacific/Auckland:20200518T170000
DTSTAMP:20260425T045826
CREATED:20200401T220953Z
LAST-MODIFIED:20200401T220953Z
UID:10794-1586163600-1589821200@old.ucsa.org.nz
SUMMARY:The Investment Society - Stock Portfolio Competition
DESCRIPTION:The Investment Society along with Hatch Invest are here to help you pass some time while in lockdown! Our Stock Portfolio Competition is back for 2020 and has been brought forward to give you another thing to use as proscratination for all those uni assignments. \nThis competition gives you $100\,000 USD of cash to invest in equities and commodities over 6 weeks (until 5pm on the 18th May) to try maximise your portfolio value. This is sure to be an interesting time in the market so get amongst it without losing your study-link money. If you’re not sold yet\, maybe our $1000 of cash prizes will interest you! First place will win $600\, second place $200 and third place $100 with 2x$50 spot prizes up for grabs as well. \nTrading starts on Monday 6th April and ends on Monday 18th May. Register before the game starts to get used to the platform and have a few practice trades. \nIf you don’t know where to start\, there are plenty of introductory videos on the platform to help you out with navigating the website or trading in general. \nInstructions to join our challenge:\n1) Follow this link to the platform:\nhttps://www.virtual-stock-exchange.com/account/dashboard \n2) Click on register in the top right hand corner. Put in your details and make USD your practice currency. Put your reason for joining as ‘Investment Club’ and then click register at the bottom. \n3) Once you’re signed up\, click on Challenges on the top menu bar and then click Join a Challenge. \n4) Search for our game “The Investment Society Stock Portfolio Competition’ and click Join. Enter the game password ‘theinvestmentsociety’. \nNow you’re in and you can get started. We recommend watching a quick tutorial on how to use the platform found on the platform’s website.
URL:http://old.ucsa.org.nz/upcomingevents/the-investment-society-stock-portfolio-competition/
LOCATION:Virtual
CATEGORIES:Club Events
ATTACH;FMTTYPE=image/png:http://old.ucsa.org.nz/wp-content/uploads/Website-Content/Events/Clubs/Club-Run-Events/Investment-Society.png
ORGANIZER;CN="Exec%20Weekly%20Stand-Up%3A%20Mental%20Health%2C%20Free%20Food%2C%20Flu%20and%20More":MAILTO:events@ucsa.org.nz
END:VEVENT
BEGIN:VEVENT
DTSTART;TZID=Pacific/Auckland:20200406T190000
DTEND;TZID=Pacific/Auckland:20200406T203000
DTSTAMP:20260425T045826
CREATED:20200401T231349Z
LAST-MODIFIED:20200401T231349Z
UID:10801-1586199600-1586205000@old.ucsa.org.nz
SUMMARY:Canterbury University Toastmasters Meeting
DESCRIPTION:Monday 6th April 2020 – Starting at 7:00 pm Pacific/Auckland\nThis is an online meeting\, click here to get the date and time at your location. \nVenue: Meet online Click here to join meeting \nMeeting Theme: Zooming Through Lockdown
URL:http://old.ucsa.org.nz/upcomingevents/canterbury-university-toastmasters-meeting/2020-04-06/
CATEGORIES:Club Events
ATTACH;FMTTYPE=image/jpeg:http://old.ucsa.org.nz/wp-content/uploads/Website-Content/Events/Clubs/Club-Run-Events/You-can-speak.jpg
ORGANIZER;CN="Exec%20Weekly%20Stand-Up%3A%20Mental%20Health%2C%20Free%20Food%2C%20Flu%20and%20More":MAILTO:events@ucsa.org.nz
END:VEVENT
BEGIN:VEVENT
DTSTART;TZID=Pacific/Auckland:20200406T190000
DTEND;TZID=Pacific/Auckland:20200406T210000
DTSTAMP:20260425T045826
CREATED:20200401T221203Z
LAST-MODIFIED:20200405T231536Z
UID:10797-1586199600-1586206800@old.ucsa.org.nz
SUMMARY:SpeechSoc Online Quiz
DESCRIPTION:Grab your flatmates and/or family for a night of fun! We can’t attend quiz nights in person\, but join us for an online quiz from the comfort of your couch! More details to come – like the Facebook event page to keep up to date! \n  \nhttps://www.facebook.com/events/2618672931742704/
URL:http://old.ucsa.org.nz/upcomingevents/speechsoc-online-quiz/
LOCATION:Online Via Zoom
CATEGORIES:Club Events
ATTACH;FMTTYPE=image/jpeg:http://old.ucsa.org.nz/wp-content/uploads/Website-Content/Events/Clubs/Club-Run-Events/SpeechSoc-e1586128521713.jpg
ORGANIZER;CN="Exec%20Weekly%20Stand-Up%3A%20Mental%20Health%2C%20Free%20Food%2C%20Flu%20and%20More":MAILTO:events@ucsa.org.nz
END:VEVENT
BEGIN:VEVENT
DTSTART;TZID=Pacific/Auckland:20200407T083000
DTEND;TZID=Pacific/Auckland:20200414T233000
DTSTAMP:20260425T045826
CREATED:20200406T231649Z
LAST-MODIFIED:20200406T232025Z
UID:10902-1586248200-1586907000@old.ucsa.org.nz
SUMMARY:Art Competition #1
DESCRIPTION:Break out your art supplies and embrace your inner artist! Paint\, sketch\, sculpture\, marconi art – use whatever you want. \nWe’re hosting a weekly art competition to help get you through lockdown. \nEither post your entry here on the event page or DM us a photo of your work by 8am Monday each week to be in to win a $100 supermarket voucher
URL:http://old.ucsa.org.nz/upcomingevents/art-competition-1/
CATEGORIES:UCSA Events
ATTACH;FMTTYPE=image/jpeg:http://old.ucsa.org.nz/wp-content/uploads/Website-Content/Events/Art-comp.jpg
ORGANIZER;CN="Exec%20Weekly%20Stand-Up%3A%20Mental%20Health%2C%20Free%20Food%2C%20Flu%20and%20More":MAILTO:events@ucsa.org.nz
END:VEVENT
BEGIN:VEVENT
DTSTART;TZID=Pacific/Auckland:20200408T170000
DTEND;TZID=Pacific/Auckland:20200414T120000
DTSTAMP:20260425T045826
CREATED:20200408T061206Z
LAST-MODIFIED:20200408T061228Z
UID:10996-1586365200-1586865600@old.ucsa.org.nz
SUMMARY:Show us Your Graduation Pics
DESCRIPTION:COMPETITION: Congrats to everyone graduating in absentia this week! 🥂🎓💐 Share your grad pics and videos with us – we want to see how you’re celebrating at home. The winning entry will get an $100 supermarket voucher for a little spend-up. \nDrop your entries in the comments on our Facebook post\, or send us a DM via Instagram: @ucsa_nz \n  \n  \nT&Cs (the boring stuff):\n• You must be a UC student\, NZ-based and graduating now to enter.\n• Entries are submitted in the comments section of our original Facebook post\, or you can DM them to our Instagram account: @ucsa_nz\n• Entries can be photos or videos.\n• One (1) winner will be chosen to receive the voucher prize.\n• Entries close Tuesday 14th April 2020 at 12pm.\n• Attempts will be made to notify the winner by Facebook or Instagram.\n• Information on how to enter the competition forms part of the conditions of entry. Entry into the competition is deemed as acceptance of its terms and conditions.\n• This competition is not in any way sponsored\, endorsed or administered by\, or associated with\, Facebook or Instagram.
URL:http://old.ucsa.org.nz/upcomingevents/show-us-your-graduation-pics/
CATEGORIES:UCSA Events
ATTACH;FMTTYPE=image/jpeg:http://old.ucsa.org.nz/wp-content/uploads/Grad-Photos-NoTXT-002.jpg
ORGANIZER;CN="Exec%20Weekly%20Stand-Up%3A%20Mental%20Health%2C%20Free%20Food%2C%20Flu%20and%20More":MAILTO:events@ucsa.org.nz
END:VEVENT
BEGIN:VEVENT
DTSTART;TZID=Pacific/Auckland:20200408T183000
DTEND;TZID=Pacific/Auckland:20200408T193000
DTSTAMP:20260425T045826
CREATED:20200406T000336Z
LAST-MODIFIED:20200406T000336Z
UID:10852-1586370600-1586374200@old.ucsa.org.nz
SUMMARY:Virtual Paint 'n' Sip
DESCRIPTION:UCSA and Paint ‘n’ Sip Studio want to help bring some creative downtime into your lives with a virtual event! \nJoin us for a 50 minute step-by-step beginner’s “Sketch ‘n’ Sip” session with award-winning artist\, Jo Loughnan. No previous experience needed with easy step-by-step instructions\, so you’ll walk away with your own hand-drawn masterpiece. \nGive it a go and surprise yourself\, and don’t forget a cheeky wee beverage of your choosing. 😉 \nRegister here: https://www.eventbrite.co.nz/e/sketch-n-sip-evening-tickets-101850798480
URL:http://old.ucsa.org.nz/upcomingevents/virtual-paint-n-sip/
CATEGORIES:UCSA Events
ATTACH;FMTTYPE=image/jpeg:http://old.ucsa.org.nz/wp-content/uploads/Website-Content/Events/Other-Events/Paint-n-sip.jpg
ORGANIZER;CN="Exec%20Weekly%20Stand-Up%3A%20Mental%20Health%2C%20Free%20Food%2C%20Flu%20and%20More":MAILTO:events@ucsa.org.nz
END:VEVENT
BEGIN:VEVENT
DTSTART;TZID=Pacific/Auckland:20200409T080000
DTEND;TZID=Pacific/Auckland:20200528T170000
DTSTAMP:20260425T045826
CREATED:20200408T053932Z
LAST-MODIFIED:20200510T235412Z
UID:10992-1586419200-1590685200@old.ucsa.org.nz
SUMMARY:Down to Business - The Podcast
DESCRIPTION:Down to Business is the new podcast by Women in Business. Down to Business will interview a range of different guests with different backgrounds\, allowing students to hear from the speakers they’d normally hear from at events and workshops. Women in Business currently have 6 speakers locked in from the Fashion\, Media\, Health\, Education and Sustainable Start Up Industries. Our first podcast will be released this week in which we talk to the girls behind the instagram account with 207k followers\, Shit You Should Care About\, with more episodes following.
URL:http://old.ucsa.org.nz/upcomingevents/down-to-business-the-podcast/
LOCATION:Online
CATEGORIES:Club Events
ATTACH;FMTTYPE=image/jpeg:http://old.ucsa.org.nz/wp-content/uploads/Down-to-Business.jpg
ORGANIZER;CN="Women%20in%20Business":MAILTO:ucwomeninbusiness@gmail.com
END:VEVENT
BEGIN:VEVENT
DTSTART;TZID=Pacific/Auckland:20200409T200000
DTEND;TZID=Pacific/Auckland:20200409T213000
DTSTAMP:20260425T045826
CREATED:20200406T003707Z
LAST-MODIFIED:20200429T050314Z
UID:10858-1586462400-1586467800@old.ucsa.org.nz
SUMMARY:MONO: Social Distancing
DESCRIPTION:We’ve missed you! So we are bringing Mono live to your living room every Thursday while were in lockdown. \nTurn off the lights and pump up the volume. We’ll see you at 8pm\, Front left at your place! \nWatch it uninterrupted on Twitch here. We’re also streaming it on The Foundry’s Facebook page. \n****** \nThe Mono Isolation Specific Stuff:\n– Each Performer will be live-streaming from their own home to stick within the Government Self Isolation guidelines.\n– No Plus ones! Please watch the show with only the people you are in self-isolation with. Stick to your Bubble!\n– We love a good party but think of your neighbours. Keep the volume at an acceptable level. \n 
URL:http://old.ucsa.org.nz/upcomingevents/mono-social-distancing/2020-04-09/
CATEGORIES:UCSA Events
ATTACH;FMTTYPE=image/jpeg:http://old.ucsa.org.nz/wp-content/uploads/Website-Content/Media-&-Ads/News/MONO-news-update.jpg
ORGANIZER;CN="Exec%20Weekly%20Stand-Up%3A%20Mental%20Health%2C%20Free%20Food%2C%20Flu%20and%20More":MAILTO:events@ucsa.org.nz
END:VEVENT
BEGIN:VEVENT
DTSTART;TZID=Pacific/Auckland:20200412T170000
DTEND;TZID=Pacific/Auckland:20200412T180000
DTSTAMP:20260425T045826
CREATED:20200408T002201Z
LAST-MODIFIED:20200408T002201Z
UID:10930-1586710800-1586714400@old.ucsa.org.nz
SUMMARY:Campus Church Students' - Easter: True Hope
DESCRIPTION:Every day we are reminded that this world is not as it should be.\nIn the midst of all the uncertainty\, where can we find hope? \nWhoever you are\, wherever you are – please join us at our streamed Easter Sunday service as we contemplate true hope this Easter. \nLive-stream can be watched on this channel:\nhttps://www.youtube.com/channel/UC3mqClz7e1RAypZvl5NvVxQ
URL:http://old.ucsa.org.nz/upcomingevents/campus-church-students-easter-true-hope/
LOCATION:Online
CATEGORIES:Club Events
ATTACH;FMTTYPE=image/jpeg:http://old.ucsa.org.nz/wp-content/uploads/Website-Content/Events/Clubs/Club-Run-Events/Campus-church-Easter-scaled.jpg
ORGANIZER;CN="Exec%20Weekly%20Stand-Up%3A%20Mental%20Health%2C%20Free%20Food%2C%20Flu%20and%20More":MAILTO:events@ucsa.org.nz
END:VEVENT
END:VCALENDAR